Workbook

Sheet week1
B1: The EJST Process
B2: Weekly activities | C2: Pts | D2: Mon | E2: Tues | F2: Wed | G2: Thur | H2: Fri | I2: Weeks total | J2: Cumulative
B3: 3.2.1
B4: 3 Networking events (No Church related). Professional/society/luncheon | C4: 10 pts
B5: 2 Meetups - lunch/coffee with another employed professional | C5: 10 pts
B6: 1 Update LinkedIn and Resume Weekly. 5pts for Resume. 5pts for LinkedIn | C6: 10 pts
B8: Networking Contacts (Recruiter/HR)
B9: HR, Recruiter, Hiring Manager | C9: 10 pts
B11: Interview
B12: Basic Interview | C12: 10 pts
B13: Warm Interview (Company referral/Connection to Company) | C13: 10 pts
B14: 2nd Interview | C14: 10 pts
B15: 3rd Interview | C15: 10 pts
B17: Volunteering
B18: 1. Helping energy professional job search, or college student. | C18: 10 pts
B19: 2. Helping college student. | C19: 10 pts
B20: 3. Attending non-profit cause or activity. | C20: 10 pts
B21: 4. EJST, morning checking in team members. | C21: 5 pts
B22: 5. EJST Facilitator, lead team members. | C22: 10 pts | I22: =SUM(D22:H22) -> 0
B23: 6. Joining the management team EJST, direct, plan for for all meetings.
B25: Target goal is 375 pts | I25: =SUM(I3:I24) -> 0
B27: Look at our Astros!!
B28: 1 - Had a strategy! Stayed with it 5 years
B29: 2 - Had a process
B30: 3 - Worked together as a team
B31: 4 - Well Organized. Excellent Management
B32: 5 - Worked together as a team

Sheet week2
B1: The EJST Process
B2: Weekly activities | C2: Pts | D2: Mon | E2: Tues | F2: Wed | G2: Thur | H2: Fri | I2: Weeks total | J2: Cumulative
B3: 3.2.1
B4: 3 Networking events (No Church related). Professional/society/luncheon | C4: 10 pts | I4: =SUM(D4:H4) -> 0
B5: 2 Meetups - lunch/coffee with another employed professional | C5: 10 pts | I5: =SUM(D5:H5) -> 0
B6: 1 Update LinkedIn and Resume Weekly. 5pts for Resume. 5pts for LinkedIn | C6: 10 pts | I6: =SUM(D6:H6) -> 0
B8: Networking Contacts (Recruiter/HR)
B9: HR, Recruiter, Hiring Manager | C9: 10 pts | I9: =SUM(D9:H9) -> 0
B11: Interview
B12: Basic Interview | C12: 10 pts | I12: =SUM(D12:H12) -> 0
B13: Warm Interview (Company referral/Connection to Company) | C13: 10 pts | I13: =SUM(D13:H13) -> 0
B14: 2nd Interview | C14: 10 pts | I14: =SUM(D14:H14) -> 0
B15: 3rd Interview | C15: 10 pts | I15: =SUM(D15:H15) -> 0
B17: Volunteering
B18: 1. Helping energy professional job search, or college student. | C18: 10 pts | I18: =SUM(D18:H18) -> 0
B19: 2. Helping college student. | C19: 10 pts | I19: =SUM(D19:H19) -> 0
B20: 3. Attending non-profit cause or activity. | C20: 10 pts | I20: =SUM(D20:H20) -> 0
B21: 4. EJST, morning checking in team members. | C21: 5 pts | I21: =SUM(D21:H21) -> 0
B22: 5. EJST Facilitator, lead team members. | C22: 10 pts | I22: =SUM(D22:H22) -> 0
B23: 6. Joining the management team EJST, direct, plan for for all meetings.
B25: Target goal is 375 pts | I25: =SUM(I3:I24) -> 0
B27: Look at our Astros!!
B28: 1 - Had a strategy! Stayed with it 5 years
B29: 2 - Had a process
B30: 3 - Worked together as a team
B31: 4 - Well Organized. Excellent Management
B32: 5 - Worked together as a team

Sheet week3
B1: The EJST Process
B2: Weekly activities | C2: Pts | D2: Mon | E2: Tues | F2: Wed | G2: Thur | H2: Fri | I2: Weeks total | J2: Cumulative
B3: 3.2.1
B4: 3 Networking events (No Church related). Professional/society/luncheon | C4: 10 pts | I4: =SUM(D4:H4) -> 0
B5: 2 Meetups - lunch/coffee with another employed professional | C5: 10 pts | I5: =SUM(D5:H5) -> 0
B6: 1 Update LinkedIn and Resume Weekly. 5pts for Resume. 5pts for LinkedIn | C6: 10 pts | I6: =SUM(D6:H6) -> 0
B8: Networking Contacts (Recruiter/HR)
B9: HR, Recruiter, Hiring Manager | C9: 10 pts | I9: =SUM(D9:H9) -> 0
B11: Interview
B12: Basic Interview | C12: 10 pts | I12: =SUM(D12:H12) -> 0
B13: Warm Interview (Company referral/Connection to Company) | C13: 10 pts | I13: =SUM(D13:H13) -> 0
B14: 2nd Interview | C14: 10 pts | I14: =SUM(D14:H14) -> 0
B15: 3rd Interview | C15: 10 pts | I15: =SUM(D15:H15) -> 0
B17: Volunteering
B18: 1. Helping energy professional job search, or college student. | C18: 10 pts | I18: =SUM(D18:H18) -> 0
B19: 2. Helping college student. | C19: 10 pts | I19: =SUM(D19:H19) -> 0
B20: 3. Attending non-profit cause or activity. | C20: 10 pts | I20: =SUM(D20:H20) -> 0
B21: 4. EJST, morning checking in team members. | C21: 5 pts | I21: =SUM(D21:H21) -> 0
B22: 5. EJST Facilitator, lead team members. | C22: 10 pts | I22: =SUM(D22:H22) -> 0
B23: 6. Joining the management team EJST, direct, plan for for all meetings.
B25: Target goal is 375 pts | I25: =SUM(I3:I24) -> 0
B27: Look at our Astros!!
B28: 1 - Had a strategy! Stayed with it 5 years
B29: 2 - Had a process
B30: 3 - Worked together as a team
B31: 4 - Well Organized. Excellent Management
B32: 5 - Worked together as a team

Sheet week4
B1: The EJST Process
B2: Weekly activities | C2: Pts | D2: Mon | E2: Tues | F2: Wed | G2: Thur | H2: Fri | I2: Weeks total | J2: Cumulative
B3: 3.2.1
B4: 3 Networking events (No Church related). Professional/society/luncheon | C4: 10 pts | I4: =SUM(D4:H4) -> 0
B5: 2 Meetups - lunch/coffee with another employed professional | C5: 10 pts | I5: =SUM(D5:H5) -> 0
B6: 1 Update LinkedIn and Resume Weekly. 5pts for Resume. 5pts for LinkedIn | C6: 10 pts | I6: =SUM(D6:H6) -> 0
B8: Networking Contacts (Recruiter/HR)
B9: HR, Recruiter, Hiring Manager | C9: 10 pts | I9: =SUM(D9:H9) -> 0
B11: Interview
B12: Basic Interview | C12: 10 pts | I12: =SUM(D12:H12) -> 0
B13: Warm Interview (Company referral/Connection to Company) | C13: 10 pts | I13: =SUM(D13:H13) -> 0
B14: 2nd Interview | C14: 10 pts | I14: =SUM(D14:H14) -> 0
B15: 3rd Interview | C15: 10 pts | I15: =SUM(D15:H15) -> 0
B17: Volunteering
B18: 1. Helping energy professional job search, or college student. | C18: 10 pts | I18: =SUM(D18:H18) -> 0
B19: 2. Helping college student. | C19: 10 pts | I19: =SUM(D19:H19) -> 0
B20: 3. Attending non-profit cause or activity. | C20: 10 pts | I20: =SUM(D20:H20) -> 0
B21: 4. EJST, morning checking in team members. | C21: 5 pts | I21: =SUM(D21:H21) -> 0
B22: 5. EJST Facilitator, lead team members. | C22: 10 pts | I22: =SUM(D22:H22) -> 0
B23: 6. Joining the management team EJST, direct, plan for for all meetings.
B25: Target goal is 375 pts | I25: =SUM(I3:I24) -> 0
B27: Look at our Astros!!
B28: 1 - Had a strategy! Stayed with it 5 years
B29: 2 - Had a process
B30: 3 - Worked together as a team
B31: 4 - Well Organized. Excellent Management
B32: 5 - Worked together as a team

Sheet week5
B1: The EJST Process
B2: Weekly activities | C2: Pts | D2: Mon | E2: Tues | F2: Wed | G2: Thur | H2: Fri | I2: Weeks total | J2: Cumulative
B3: 3.2.1
B4: 3 Networking events (No Church related). Professional/society/luncheon | C4: 10 pts | I4: =SUM(D4:H4) -> 0
B5: 2 Meetups - lunch/coffee with another employed professional | C5: 10 pts | H5: 10 | I5: =SUM(D5:H5) -> 10
B6: 1 Update LinkedIn and Resume Weekly. 5pts for Resume. 5pts for LinkedIn | C6: 10 pts | I6: =SUM(D6:H6) -> 0
B8: Networking Contacts (Recruiter/HR)
B9: HR, Recruiter, Hiring Manager | C9: 10 pts | I9: =SUM(D9:H9) -> 0
B11: Interview
B12: Basic Interview | C12: 10 pts | I12: =SUM(D12:H12) -> 0
B13: Warm Interview (Company referral/Connection to Company) | C13: 10 pts | I13: =SUM(D13:H13) -> 0
B14: 2nd Interview | C14: 10 pts | I14: =SUM(D14:H14) -> 0
B15: 3rd Interview | C15: 10 pts | I15: =SUM(D15:H15) -> 0
B17: Volunteering
B18: 1. Helping energy professional job search, or college student. | C18: 10 pts | I18: =SUM(D18:H18) -> 0
B19: 2. Helping college student. | C19: 10 pts | I19: =SUM(D19:H19) -> 0
B20: 3. Attending non-profit cause or activity. | C20: 10 pts | I20: =SUM(D20:H20) -> 0
B21: 4. EJST, morning checking in team members. | C21: 5 pts | I21: =SUM(D21:H21) -> 0
B22: 5. EJST Facilitator, lead team members. | C22: 10 pts | I22: =SUM(D22:H22) -> 0
B23: 6. Joining the management team EJST, direct, plan for for all meetings.
B25: Target goal is 375 pts | I25: =SUM(I3:I24) -> 10
B27: Look at our Astros!!
B28: 1 - Had a strategy! Stayed with it 5 years
B29: 2 - Had a process
B30: 3 - Worked together as a team
B31: 4 - Well Organized. Excellent Management
B32: 5 - Worked together as a team

Sheet week6
B1: The EJST Process
B2: Weekly activities | C2: Pts | D2: Mon | E2: Tues | F2: Wed | G2: Thur | H2: Fri | I2: Weeks total | J2: Cumulative
B3: 3.2.1
B4: 3 Networking events (No Church related). Professional/society/luncheon | C4: 10 pts | I4: =SUM(D4:H4) -> 0
B5: 2 Meetups - lunch/coffee with another employed professional | C5: 10 pts | I5: =SUM(D5:H5) -> 0
B6: 1 Update LinkedIn and Resume Weekly. 5pts for Resume. 5pts for LinkedIn | C6: 10 pts | I6: =SUM(D6:H6) -> 0
B8: Networking Contacts (Recruiter/HR)
B9: HR, Recruiter, Hiring Manager | C9: 10 pts | I9: =SUM(D9:H9) -> 0
B11: Interview
B12: Basic Interview | C12: 10 pts | I12: =SUM(D12:H12) -> 0
B13: Warm Interview (Company referral/Connection to Company) | C13: 10 pts | I13: =SUM(D13:H13) -> 0
B14: 2nd Interview | C14: 10 pts | I14: =SUM(D14:H14) -> 0
B15: 3rd Interview | C15: 10 pts | I15: =SUM(D15:H15) -> 0
B17: Volunteering
B18: 1. Helping energy professional job search, or college student. | C18: 10 pts | I18: =SUM(D18:H18) -> 0
B19: 2. Helping college student. | C19: 10 pts | I19: =SUM(D19:H19) -> 0
B20: 3. Attending non-profit cause or activity. | C20: 10 pts | I20: =SUM(D20:H20) -> 0
B21: 4. EJST, morning checking in team members. | C21: 5 pts | I21: =SUM(D21:H21) -> 0
B22: 5. EJST Facilitator, lead team members. | C22: 10 pts | I22: =SUM(D22:H22) -> 0
B23: 6. Joining the management team EJST, direct, plan for for all meetings.
B25: Target goal is 375 pts | I25: =SUM(I3:I24) -> 0
B27: Look at our Astros!!
B28: 1 - Had a strategy! Stayed with it 5 years
B29: 2 - Had a process
B30: 3 - Worked together as a team
B31: 4 - Well Organized. Excellent Management
B32: 5 - Worked together as a team

Sheet week7
B1: The EJST Process
B2: Weekly activities | C2: Pts | D2: Mon | E2: Tues | F2: Wed | G2: Thur | H2: Fri | I2: Weeks total | J2: Cumulative
B3: 3.2.1
B4: 3 Networking events (No Church related). Professional/society/luncheon | C4: 10 pts | E4: 10 | F4: 30 | G4: 10 | I4: =SUM(D4:H4) -> 50
B5: 2 Meetups - lunch/coffee with another employed professional | C5: 10 pts | I5: =SUM(D5:H5) -> 0
B6: 1 Update LinkedIn and Resume Weekly. 5pts for Resume. 5pts for LinkedIn | C6: 10 pts | D6: 10 | I6: =SUM(D6:H6) -> 10
B8: Networking Contacts (Recruiter/HR)
B9: HR, Recruiter, Hiring Manager | C9: 10 pts | E9: 10 | I9: =SUM(D9:H9) -> 10
B11: Interview
B12: Basic Interview | C12: 10 pts | I12: =SUM(D12:H12) -> 0
B13: Warm Interview (Company referral/Connection to Company) | C13: 10 pts | I13: =SUM(D13:H13) -> 0
B14: 2nd Interview | C14: 10 pts | I14: =SUM(D14:H14) -> 0
B15: 3rd Interview | C15: 10 pts | I15: =SUM(D15:H15) -> 0
B17: Volunteering
B18: 1. Helping energy professional job search, or college student. | C18: 10 pts | F18: 10 | I18: =SUM(D18:H18) -> 10
B19: 2. Helping college student. | C19: 10 pts | I19: =SUM(D19:H19) -> 0
B20: 3. Attending non-profit cause or activity. | C20: 10 pts | I20: =SUM(D20:H20) -> 0
B21: 4. EJST, morning checking in team members. | C21: 5 pts | I21: =SUM(D21:H21) -> 0
B22: 5. EJST Facilitator, lead team members. | C22: 10 pts | I22: =SUM(D22:H22) -> 0
B23: 6. Joining the management team EJST, direct, plan for for all meetings.
B25: Target goal is 375 pts | I25: =SUM(I3:I24) -> 80
B27: Look at our Astros!!
B28: 1 - Had a strategy! Stayed with it 5 years
B29: 2 - Had a process
B30: 3 - Worked together as a team
B31: 4 - Well Organized. Excellent Management
B32: 5 - Worked together as a team

Sheet cumulative
B1: The EJST Process
B2: Weekly activities | C2: Pts | D2: wkk1 | E2: week2 | F2: week3 | G2: week4 | H2: week5 | I2: week6 | J2: week7 | L2: Weeks total | M2: Cumulative
B3: 3.2.1
B4: 3 Networking events (No Church related). Professional/society/luncheon | C4: 10 pts | D4: =week1!I4 -> 0 | E4: =week2!I4 -> 0 | F4: =week3!I4 -> 0 | G4: =week4!I4 -> 0 | H4: =week5!I4 -> 0 | I4: =week6!I4 -> 0 | J4: =week7!I4 -> 50 | L4: =SUM(D4:K4) -> 50
B5: 2 Meetups - lunch/coffee with another employed professional | C5: 10 pts | D5: =week1!I5 -> 0 | E5: =week2!I5 -> 0 | F5: =week3!I5 -> 0 | G5: =week4!I5 -> 0 | H5: =week5!I5 -> 10 | I5: =week6!I5 -> 0 | J5: =week7!I5 -> 0 | L5: =SUM(D5:K5) -> 10
B6: 1 Update LinkedIn and Resume Weekly. 5pts for Resume. 5pts for LinkedIn | C6: 10 pts | D6: =week1!I6 -> 0 | E6: =week2!I6 -> 0 | F6: =week3!I6 -> 0 | G6: =week4!I6 -> 0 | H6: =week5!I6 -> 0 | I6: =week6!I6 -> 0 | J6: =week7!I6 -> 10 | L6: =SUM(D6:K6) -> 10
D7: =week1!I7 -> 0 | E7: =week2!I7 -> 0 | F7: =week3!I7 -> 0 | G7: =week4!I7 -> 0 | H7: =week5!I7 -> 0 | I7: =week6!I7 -> 0 | J7: =week7!I7 -> 0
B8: Networking Contacts (Recruiter/HR) | D8: =week1!I8 -> 0 | E8: =week2!I8 -> 0 | F8: =week3!I8 -> 0 | G8: =week4!I8 -> 0 | H8: =week5!I8 -> 0 | I8: =week6!I8 -> 0 | J8: =week7!I8 -> 0
B9: HR, Recruiter, Hiring Manager | C9: 10 pts | D9: =week1!I9 -> 0 | E9: =week2!I9 -> 0 | F9: =week3!I9 -> 0 | G9: =week4!I9 -> 0 | H9: =week5!I9 -> 0 | I9: =week6!I9 -> 0 | J9: =week7!I9 -> 10 | L9: =SUM(D9:K9) -> 10
D10: =week1!I10 -> 0 | E10: =week2!I10 -> 0 | F10: =week3!I10 -> 0 | G10: =week4!I10 -> 0 | H10: =week5!I10 -> 0 | I10: =week6!I10 -> 0 | J10: =week7!I10 -> 0
B11: Interview | D11: =week1!I11 -> 0 | E11: =week2!I11 -> 0 | F11: =week3!I11 -> 0 | G11: =week4!I11 -> 0 | H11: =week5!I11 -> 0 | I11: =week6!I11 -> 0 | J11: =week7!I11 -> 0
B12: Basic Interview | C12: 10 pts | D12: =week1!I12 -> 0 | E12: =week2!I12 -> 0 | F12: =week3!I12 -> 0 | G12: =week4!I12 -> 0 | H12: =week5!I12 -> 0 | I12: =week6!I12 -> 0 | J12: =week7!I12 -> 0 | L12: =SUM(D12:K12) -> 0
B13: Warm Interview (Company referral/Connection to Company) | C13: 10 pts | D13: =week1!I13 -> 0 | E13: =week2!I13 -> 0 | F13: =week3!I13 -> 0 | G13: =week4!I13 -> 0 | H13: =week5!I13 -> 0 | I13: =week6!I13 -> 0 | J13: =week7!I13 -> 0 | L13: =SUM(D13:K13) -> 0
B14: 2nd Interview | C14: 10 pts | D14: =week1!I14 -> 0 | E14: =week2!I14 -> 0 | F14: =week3!I14 -> 0 | G14: =week4!I14 -> 0 | H14: =week5!I14 -> 0 | I14: =week6!I14 -> 0 | J14: =week7!I14 -> 0 | L14: =SUM(D14:K14) -> 0
B15: 3rd Interview | C15: 10 pts | D15: =week1!I15 -> 0 | E15: =week2!I15 -> 0 | F15: =week3!I15 -> 0 | G15: =week4!I15 -> 0 | H15: =week5!I15 -> 0 | I15: =week6!I15 -> 0 | J15: =week7!I15 -> 0 | L15: =SUM(D15:K15) -> 0
D16: =week1!I16 -> 0 | E16: =week2!I16 -> 0 | F16: =week3!I16 -> 0 | G16: =week4!I16 -> 0 | H16: =week5!I16 -> 0 | I16: =week6!I16 -> 0 | J16: =week7!I16 -> 0
B17: Volunteering | D17: =week1!I17 -> 0 | E17: =week2!I17 -> 0 | F17: =week3!I17 -> 0 | G17: =week4!I17 -> 0 | H17: =week5!I17 -> 0 | I17: =week6!I17 -> 0 | J17: =week7!I17 -> 0
B18: 1. Helping energy professional job search, or college student. | C18: 10 pts | D18: =week1!I18 -> 0 | E18: =week2!I18 -> 0 | F18: =week3!I18 -> 0 | G18: =week4!I18 -> 0 | H18: =week5!I18 -> 0 | I18: =week6!I18 -> 0 | J18: =week7!I18 -> 10 | L18: =SUM(D18:K18) -> 10
B19: 2. Helping college student. | C19: 10 pts | D19: =week1!I19 -> 0 | E19: =week2!I19 -> 0 | F19: =week3!I19 -> 0 | G19: =week4!I19 -> 0 | H19: =week5!I19 -> 0 | I19: =week6!I19 -> 0 | J19: =week7!I19 -> 0 | L19: =SUM(D19:K19) -> 0
B20: 3. Attending non-profit cause or activity. | C20: 10 pts | D20: =week1!I20 -> 0 | E20: =week2!I20 -> 0 | F20: =week3!I20 -> 0 | G20: =week4!I20 -> 0 | H20: =week5!I20 -> 0 | I20: =week6!I20 -> 0 | J20: =week7!I20 -> 0 | L20: =SUM(D20:K20) -> 0
B21: 4. EJST, morning checking in team members. | C21: 5 pts | D21: =week1!I21 -> 0 | E21: =week2!I21 -> 0 | F21: =week3!I21 -> 0 | G21: =week4!I21 -> 0 | H21: =week5!I21 -> 0 | I21: =week6!I21 -> 0 | J21: =week7!I21 -> 0 | L21: =SUM(D21:K21) -> 0
B22: 5. EJST Facilitator, lead team members. | C22: 10 pts | D22: =week1!I22 -> 0 | E22: =week2!I22 -> 0 | F22: =week3!I22 -> 0 | G22: =week4!I22 -> 0 | H22: =week5!I22 -> 0 | I22: =week6!I22 -> 0 | J22: =week7!I22 -> 0 | L22: =SUM(D22:K22) -> 0
B23: 6. Joining the management team EJST, direct, plan for for all meetings. | E23: =week2!I23 -> 0 | F23: =week3!I23 -> 0 | G23: =week4!I23 -> 0 | H23: =week5!I23 -> 0 | I23: =week6!I23 -> 0 | J23: =week7!I23 -> 0
E24: =week2!I24 -> 0 | F24: =week3!I24 -> 0 | G24: =week4!I24 -> 0 | H24: =week5!I24 -> 0 | I24: =week6!I24 -> 0 | J24: =week7!I24 -> 0
B25: Target goal is 375 pts | D25: =SUM(D3:D24) -> 0 | E25: =SUM(E3:E24) -> 0 | F25: =week3!I25 -> 0 | G25: =week4!I25 -> 0 | H25: =week5!I25 -> 10 | I25: =week6!I25 -> 0 | J25: =week7!I25 -> 80 | K25: =SUM(K3:K24) -> 0 | L25: =SUM(L3:L24) -> 90
B27: Look at our Astros!!
B28: 1 - Had a strategy! Stayed with it 5 years
B29: 2 - Had a process
B30: 3 - Worked together as a team
B31: 4 - Well Organized. Excellent Management
B32: 5 - Worked together as a team
